BEGIN:VCALENDAR
VERSION:2.0
PRODID:-//Businesswomen.se - ECPv6.15.20//NONSGML v1.0//EN
CALSCALE:GREGORIAN
METHOD:PUBLISH
X-ORIGINAL-URL:https://businesswomen.se
X-WR-CALDESC:Evenemang för Businesswomen.se
REFRESH-INTERVAL;VALUE=DURATION:PT1H
X-Robots-Tag:noindex
X-PUBLISHED-TTL:PT1H
BEGIN:VTIMEZONE
TZID:Europe/Stockholm
BEGIN:DAYLIGHT
TZOFFSETFROM:+0100
TZOFFSETTO:+0200
TZNAME:CEST
DTSTART:20200329T010000
END:DAYLIGHT
BEGIN:STANDARD
TZOFFSETFROM:+0200
TZOFFSETTO:+0100
TZNAME:CET
DTSTART:20201025T010000
END:STANDARD
BEGIN:DAYLIGHT
TZOFFSETFROM:+0100
TZOFFSETTO:+0200
TZNAME:CEST
DTSTART:20210328T010000
END:DAYLIGHT
BEGIN:STANDARD
TZOFFSETFROM:+0200
TZOFFSETTO:+0100
TZNAME:CET
DTSTART:20211031T010000
END:STANDARD
BEGIN:DAYLIGHT
TZOFFSETFROM:+0100
TZOFFSETTO:+0200
TZNAME:CEST
DTSTART:20220327T010000
END:DAYLIGHT
BEGIN:STANDARD
TZOFFSETFROM:+0200
TZOFFSETTO:+0100
TZNAME:CET
DTSTART:20221030T010000
END:STANDARD
END:VTIMEZONE
BEGIN:VEVENT
DTSTART;TZID=Europe/Stockholm:20211208T173000
DTEND;TZID=Europe/Stockholm:20211208T203000
DTSTAMP:20260423T065140
CREATED:20211019T123625Z
LAST-MODIFIED:20211207T095403Z
UID:5645-1638984600-1638995400@businesswomen.se
SUMMARY:Nätverksträff: tema entreprenörskap
DESCRIPTION:Varmt välkommen till en inspirerande kväll!\nDen här kvällen har vi bjudit in Malin Granlund\, grundare av appen Done. Hon delar sin resa och hur hon gjorde när de startade\, medgångar och motgångar. Vad krävs för att bygga och lansera en app? Du får även chans att ställa dina frågor om att starta och driva företag.\n\nDu träffar också andra kvinnor i karriären\, och får ta del av deras erfarenheter\, dela kunskap och utvidga ditt professionella nätverk.\n\n\nLadda ner appen där appar finns eller läs mer om Done här: https://www.doneservices.se\n\nMed reservation för ändringar.\n\n\n\nVill du komma som gäst? Fyll i din intresseanmälan här: \n\n\nINTRESSEANMÄLAN
URL:https://businesswomen.se/event/natverkstraff-entreprenorskap/
LOCATION:tbc
ATTACH;FMTTYPE=image/png:https://businesswomen.se/wp-content/uploads/2021/10/Skärmavbild-2021-10-19-kl.-14.40.58-e1634647824937.png
END:VEVENT
END:VCALENDAR