BEGIN:VCALENDAR
VERSION:2.0
PRODID:-//Businesswomen.se - ECPv6.15.20//NONSGML v1.0//EN
CALSCALE:GREGORIAN
METHOD:PUBLISH
X-WR-CALNAME:Businesswomen.se
X-ORIGINAL-URL:https://businesswomen.se
X-WR-CALDESC:Evenemang för Businesswomen.se
REFRESH-INTERVAL;VALUE=DURATION:PT1H
X-Robots-Tag:noindex
X-PUBLISHED-TTL:PT1H
BEGIN:VTIMEZONE
TZID:Europe/Stockholm
BEGIN:DAYLIGHT
TZOFFSETFROM:+0100
TZOFFSETTO:+0200
TZNAME:CEST
DTSTART:20220327T010000
END:DAYLIGHT
BEGIN:STANDARD
TZOFFSETFROM:+0200
TZOFFSETTO:+0100
TZNAME:CET
DTSTART:20221030T010000
END:STANDARD
BEGIN:DAYLIGHT
TZOFFSETFROM:+0100
TZOFFSETTO:+0200
TZNAME:CEST
DTSTART:20230326T010000
END:DAYLIGHT
BEGIN:STANDARD
TZOFFSETFROM:+0200
TZOFFSETTO:+0100
TZNAME:CET
DTSTART:20231029T010000
END:STANDARD
BEGIN:DAYLIGHT
TZOFFSETFROM:+0100
TZOFFSETTO:+0200
TZNAME:CEST
DTSTART:20240331T010000
END:DAYLIGHT
BEGIN:STANDARD
TZOFFSETFROM:+0200
TZOFFSETTO:+0100
TZNAME:CET
DTSTART:20241027T010000
END:STANDARD
END:VTIMEZONE
BEGIN:VEVENT
DTSTART;TZID=Europe/Stockholm:20230112T173000
DTEND;TZID=Europe/Stockholm:20230112T193000
DTSTAMP:20260422T063000
CREATED:20221121T111700Z
LAST-MODIFIED:20221209T131623Z
UID:6774-1673544600-1673551800@businesswomen.se
SUMMARY:Vad innebär interimrollen? - Med Mia Borgernäs
DESCRIPTION:Arbetsmarknaden är under förändring och i en föränderlig tillvaro söker många företag mer flexibla och dessutom gärna snabba lösningar. Att arbeta som interim är att kliva in i ett uppdrag under en begränsad tidsperiod\, t.ex. medan rekrytering av en senior post pågår eller under en organisationsförändring.  \nMia Borgernäs arbetar med interimsrekrytering på Poolia och kommer dela sina bästa tips för dig som är intresserad av interimsrollen. \n”Jag ger dem tips och tankar om att vara interim\, hur man blir interim\, men också att tänka på innan\, under och efter ett uppdrag samt ur ett kundperspektiv också – bl.a. när ett bolag bör plocka in en interim och varför.” \n  \nDet praktiska:\nDatum: Torsdag 12 januari\nTid: 17.30 – 19.30 (Föreläsning/Q&A 18.00 och frågor 18.30-18.45)\nPlats: The Park Haga\, Hälsingegatan 49\, Stockholm \n  \nVarmt välkommen! \n\nANMÄL DIG HÄR
URL:https://businesswomen.se/event/vad-innebar-interimrollen-med-mia-borgernas/
LOCATION:The Park Haga\, Hälsingegatan 49\, Stockholm\, Sverige
ATTACH;FMTTYPE=image/jpeg:https://businesswomen.se/wp-content/uploads/2022/11/Mia_SV-2.jpg
END:VEVENT
END:VCALENDAR