BEGIN:VCALENDAR
VERSION:2.0
PRODID:-//Businesswomen.se - ECPv6.15.20//NONSGML v1.0//EN
CALSCALE:GREGORIAN
METHOD:PUBLISH
X-ORIGINAL-URL:https://businesswomen.se
X-WR-CALDESC:Evenemang för Businesswomen.se
REFRESH-INTERVAL;VALUE=DURATION:PT1H
X-Robots-Tag:noindex
X-PUBLISHED-TTL:PT1H
BEGIN:VTIMEZONE
TZID:Europe/Stockholm
BEGIN:DAYLIGHT
TZOFFSETFROM:+0100
TZOFFSETTO:+0200
TZNAME:CEST
DTSTART:20220327T010000
END:DAYLIGHT
BEGIN:STANDARD
TZOFFSETFROM:+0200
TZOFFSETTO:+0100
TZNAME:CET
DTSTART:20221030T010000
END:STANDARD
BEGIN:DAYLIGHT
TZOFFSETFROM:+0100
TZOFFSETTO:+0200
TZNAME:CEST
DTSTART:20230326T010000
END:DAYLIGHT
BEGIN:STANDARD
TZOFFSETFROM:+0200
TZOFFSETTO:+0100
TZNAME:CET
DTSTART:20231029T010000
END:STANDARD
BEGIN:DAYLIGHT
TZOFFSETFROM:+0100
TZOFFSETTO:+0200
TZNAME:CEST
DTSTART:20240331T010000
END:DAYLIGHT
BEGIN:STANDARD
TZOFFSETFROM:+0200
TZOFFSETTO:+0100
TZNAME:CET
DTSTART:20241027T010000
END:STANDARD
END:VTIMEZONE
BEGIN:VEVENT
DTSTART;TZID=Europe/Stockholm:20230314T090000
DTEND;TZID=Europe/Stockholm:20230314T100000
DTSTAMP:20260422T032712
CREATED:20230303T102806Z
LAST-MODIFIED:20230303T102806Z
UID:7702-1678784400-1678788000@businesswomen.se
SUMMARY:Informationsfrukost Business Women Advisory & Growth Program - pilot
DESCRIPTION:Som företagare är det lätt att man blir ensam med stora beslut. Man förväntas också vara expert och kunnig inom alla områden som finansiering\, logistik\, sälj och marknadsföring. Via det här pilotprogrammet vill vi testa ett nytt koncept där vi hjälper er bli varandras experter för att kunna ge varandra råd\, input och kunskap på hur du ska kunna bygga ditt bolag stabilare och ta rätt beslut. \n…\nI pilotprogrammet blir du en del av grupp om 5-7 personer med olika kompetenser\, men där alla företagare. Ni träffas och pratar utmaningar här och nu men blickar även framåt och går igenom inom försäljning\, marknad/PR\, organisation/delägarskap m m på ett strukturerat sätt.\n…\nUnder informationsmötet berättar vi mer om programmets upplägg\, pilotpris\, och vad ni får ut av programmet. \n…\nVi ser fram emot att träffa dig!\n…\n…\nANMÄL DIG HÄR!
URL:https://businesswomen.se/event/informationsfrukost-business-women-advisory-growth-program-pilot/
ATTACH;FMTTYPE=image/png:https://businesswomen.se/wp-content/uploads/2023/03/Screenshot-2023-03-03-at-11.22.56-1.png
END:VEVENT
END:VCALENDAR