BEGIN:VCALENDAR
VERSION:2.0
PRODID:-//Businesswomen.se - ECPv6.15.20//NONSGML v1.0//EN
CALSCALE:GREGORIAN
METHOD:PUBLISH
X-WR-CALNAME:Businesswomen.se
X-ORIGINAL-URL:https://businesswomen.se
X-WR-CALDESC:Evenemang för Businesswomen.se
REFRESH-INTERVAL;VALUE=DURATION:PT1H
X-Robots-Tag:noindex
X-PUBLISHED-TTL:PT1H
BEGIN:VTIMEZONE
TZID:Europe/Stockholm
BEGIN:DAYLIGHT
TZOFFSETFROM:+0100
TZOFFSETTO:+0200
TZNAME:CEST
DTSTART:20220327T010000
END:DAYLIGHT
BEGIN:STANDARD
TZOFFSETFROM:+0200
TZOFFSETTO:+0100
TZNAME:CET
DTSTART:20221030T010000
END:STANDARD
BEGIN:DAYLIGHT
TZOFFSETFROM:+0100
TZOFFSETTO:+0200
TZNAME:CEST
DTSTART:20230326T010000
END:DAYLIGHT
BEGIN:STANDARD
TZOFFSETFROM:+0200
TZOFFSETTO:+0100
TZNAME:CET
DTSTART:20231029T010000
END:STANDARD
BEGIN:DAYLIGHT
TZOFFSETFROM:+0100
TZOFFSETTO:+0200
TZNAME:CEST
DTSTART:20240331T010000
END:DAYLIGHT
BEGIN:STANDARD
TZOFFSETFROM:+0200
TZOFFSETTO:+0100
TZNAME:CET
DTSTART:20241027T010000
END:STANDARD
END:VTIMEZONE
BEGIN:VEVENT
DTSTART;TZID=Europe/Stockholm:20230419T083000
DTEND;TZID=Europe/Stockholm:20230419T090000
DTSTAMP:20260422T005012
CREATED:20230301T144545Z
LAST-MODIFIED:20230317T104908Z
UID:7653-1681893000-1681894800@businesswomen.se
SUMMARY:Informationsmöte Mentorskapsprogram 19 april
DESCRIPTION:Varför mentorskap? \nMentorskap leder till en kompetensutveckling\, nya perspektiv och insikter hos både mentorer och adepter. I en tid då personlig utveckling har kommit högt upp på agendan är mentorskapet än mer relevant. De som är mentorer kommer får lära sig ställa frågor och lyssna och adepter kommer utvecklas i sin roll som ledare eller blivande ledare.\n…\nI september startar vi nästa program\, välkommen att höra mer om det! \nBusiness Women tillsammans med Karin Jordås erbjuder dels platser i vårt öppna program (två platser per organisation) som startar 19 september. Vi erbjuder även egna interna program till organisationer där vi håller i matchning\, och hela processen från början till slut. Så har ni två medarbetare som skulle behöva utvecklas\, hitta riktning och bli tryggare i sin roll eller skulle ni vilja ha ett eget program? Vi har erfarna seniora mentorer med stor erfarenhet från arbetslivet och vi matchar noga adept och mentor utifrån adeptens situation.\n…. \nProgrammet har ett coachande förhållningssätt och föreläsningar\, samt diskussionsforum om t.ex. hur du kan hantera svåra situationer och samtal. Programchef är Karin Jordås\, tidigare generalsekreterare på organisationen Mentor som instiftades av Drottning Silvia och med näringslivets topp i styrelsen. Programmet drivs tillsammans med Charlotta Lundin\, grundare av Business Women Sverige. \nDen 19 april med två olika starttider delar vi mer om vad mentorskapet kan ge och nycklar till framgång med mentorskap. \nVarmt välkommen! \n… \n\n\n\n..\n\nAnmäl dig till infomötet 19 april kl. 8.30 här!\nAnmäl dig till infomötet 19 april kl. 9.15 här!
URL:https://businesswomen.se/event/informationsmote-mentorskapsprogram/
LOCATION:Zoom
ATTACH;FMTTYPE=image/jpeg:https://businesswomen.se/wp-content/uploads/2023/03/IMG_9263-1.jpg
END:VEVENT
END:VCALENDAR