BEGIN:VCALENDAR
VERSION:2.0
PRODID:-//Businesswomen.se - ECPv6.15.20//NONSGML v1.0//EN
CALSCALE:GREGORIAN
METHOD:PUBLISH
X-WR-CALNAME:Businesswomen.se
X-ORIGINAL-URL:https://businesswomen.se
X-WR-CALDESC:Evenemang för Businesswomen.se
REFRESH-INTERVAL;VALUE=DURATION:PT1H
X-Robots-Tag:noindex
X-PUBLISHED-TTL:PT1H
BEGIN:VTIMEZONE
TZID:Europe/Stockholm
BEGIN:DAYLIGHT
TZOFFSETFROM:+0100
TZOFFSETTO:+0200
TZNAME:CEST
DTSTART:20220327T010000
END:DAYLIGHT
BEGIN:STANDARD
TZOFFSETFROM:+0200
TZOFFSETTO:+0100
TZNAME:CET
DTSTART:20221030T010000
END:STANDARD
BEGIN:DAYLIGHT
TZOFFSETFROM:+0100
TZOFFSETTO:+0200
TZNAME:CEST
DTSTART:20230326T010000
END:DAYLIGHT
BEGIN:STANDARD
TZOFFSETFROM:+0200
TZOFFSETTO:+0100
TZNAME:CET
DTSTART:20231029T010000
END:STANDARD
BEGIN:DAYLIGHT
TZOFFSETFROM:+0100
TZOFFSETTO:+0200
TZNAME:CEST
DTSTART:20240331T010000
END:DAYLIGHT
BEGIN:STANDARD
TZOFFSETFROM:+0200
TZOFFSETTO:+0100
TZNAME:CET
DTSTART:20241027T010000
END:STANDARD
END:VTIMEZONE
BEGIN:VEVENT
DTSTART;TZID=Europe/Stockholm:20230907T173000
DTEND;TZID=Europe/Stockholm:20230907T203000
DTSTAMP:20260421T144507
CREATED:20230830T074639Z
LAST-MODIFIED:20230830T074805Z
UID:8257-1694107800-1694118600@businesswomen.se
SUMMARY:Money Mindset - pengar som frihet och pengar som trygghet
DESCRIPTION:En kväll om pengar\, så kan du tänka kring pengar som trygghet och frihet!\nPengar kan vara ett laddat ämne\, ”inget man pratar om” eller hur..? Men pengar är viktigt och det påverkar din situation livet igenom. Därför ska vi prata om just pengar den här kvällen\, dels hur du kan ta bättre grepp om din privatekonomi\, men vi dyker också in i finansbranchen som är känd för att vara en bransch där man kan tjäna stora pengar -men där kvinnorna lyser med sin frånvaro. Varför? Vi pratar om hur är det att jobba i finansbranschen och dessutom söker de efter kvinnor med ljus och lykta! Kanske är det något för dig?\n\n\nMia Ingelström är civilekonomen som driver företaget Financial Fitness och blev Sveriges första ekonomi-PT med mål att ge människor verktyg att göra det bästa möjliga med sin ekonomi. Oavsett om du är anställd eller företagare så behöver du ha kontroll över din ekonomi – och ekonomi-PT Mia kommer att visa vad du behöver göra för att komma dit. Mia är en flitigt anlitad föreläsare och expert i media och även författare till boken ”Ekonomi-PT:ns handbok för kvinnor”\, utgiven av Bonnierförlaget Romanus & Selling 2020. \nSheida Karlsson\, Financial Controller på Esmaeilzadeh Holding AB och Amanda Öqvist\, Senior Associate på Lyvia Group och ställde sig frågan\, varför är vi så få kvinnor här? De kommer dela mer varför de tycker fler kvinnor ska välja finansbranschen\, och dessutom inspirera kring hur det kan vara ett steg mot finansiell frihet. \nDu träffar också likasinnade kvinnor\, utökar ditt professionella nätverk och får ta del av andras erfarenheter och tips. Kanske är kvällen ett första steg mot en tryggare och bättre ekonomi? \n  \n\nPris:\nIngår för dig som är medlem i Business Women medlemsklubb.\n150 kr för dig som är communitymedlem (fick du inbjudan via mail är du medlem i vår community)\n300 kr för icke-medlem (bjud med en vän du tror kan vara intresserad!)\nBetalinfo kommer i bekräftelsemailet.\n\n\nGenom att du anmäler dig godkänner du att vi använder dina uppgifter i enlighet med vår gdpr-policy.\n\n\nANMÄL DIG HÄR\nKan du inte närvara på plats? Du har då chansen att se föreläsningen digitalt (ej resten av programmet) \nANMÄL DIG DIGITALT HÄR
URL:https://businesswomen.se/event/money-mindset-pengar-som-frihet-och-pengar-som-trygghet/
LOCATION:The Park Södra\, Magnusladulåsgatan 1\, Stockholm\, Sverige
ATTACH;FMTTYPE=image/png:https://businesswomen.se/wp-content/uploads/2023/08/Money_Mindset-e1693381550818.png
END:VEVENT
BEGIN:VEVENT
DTSTART;TZID=Europe/Stockholm:20230907T180000
DTEND;TZID=Europe/Stockholm:20230907T180000
DTSTAMP:20260421T144507
CREATED:20230622T120724Z
LAST-MODIFIED:20230622T120724Z
UID:8114-1694109600-1694109600@businesswomen.se
SUMMARY:Money mindset-pengar som frihet och trygghet
DESCRIPTION:En kväll om pengar\, så kan du tänka kring pengar som trygghet och frihet.\n\nVi pratar om hur du kan investera för att få dina pengar att växa men också om hur du kan undvika vanliga fällor som uppstår vid livets stora händelser som äktenskap\, barn och skilsmässor.\n\nUnder kvällen får du ta del av en inspirerande föreläsning och panelsamtal med experter på ämnet. Du träffar också andra drivna kvinnor och får chans till att nätverka.\n–\nPris 150kr\nIngår för dig som är medlem i businesswomens medlemsklubb\n\n–\n\n\nANMÄL DIG HÄR
URL:https://businesswomen.se/event/money-mindset-pengar-som-frihet-och-trygghet/
LOCATION:The Park Södra\, Magnusladulåsgatan 1\, Stockholm\, Sverige
ATTACH;FMTTYPE=image/jpeg:https://businesswomen.se/wp-content/uploads/2023/06/BusinessWomen-19-e1687435266303.jpg
END:VEVENT
END:VCALENDAR