BEGIN:VCALENDAR
VERSION:2.0
PRODID:-//Businesswomen.se - ECPv6.15.20//NONSGML v1.0//EN
CALSCALE:GREGORIAN
METHOD:PUBLISH
X-ORIGINAL-URL:https://businesswomen.se
X-WR-CALDESC:Evenemang för Businesswomen.se
REFRESH-INTERVAL;VALUE=DURATION:PT1H
X-Robots-Tag:noindex
X-PUBLISHED-TTL:PT1H
BEGIN:VTIMEZONE
TZID:Europe/Stockholm
BEGIN:DAYLIGHT
TZOFFSETFROM:+0100
TZOFFSETTO:+0200
TZNAME:CEST
DTSTART:20220327T010000
END:DAYLIGHT
BEGIN:STANDARD
TZOFFSETFROM:+0200
TZOFFSETTO:+0100
TZNAME:CET
DTSTART:20221030T010000
END:STANDARD
BEGIN:DAYLIGHT
TZOFFSETFROM:+0100
TZOFFSETTO:+0200
TZNAME:CEST
DTSTART:20230326T010000
END:DAYLIGHT
BEGIN:STANDARD
TZOFFSETFROM:+0200
TZOFFSETTO:+0100
TZNAME:CET
DTSTART:20231029T010000
END:STANDARD
BEGIN:DAYLIGHT
TZOFFSETFROM:+0100
TZOFFSETTO:+0200
TZNAME:CEST
DTSTART:20240331T010000
END:DAYLIGHT
BEGIN:STANDARD
TZOFFSETFROM:+0200
TZOFFSETTO:+0100
TZNAME:CET
DTSTART:20241027T010000
END:STANDARD
END:VTIMEZONE
BEGIN:VEVENT
DTSTART;TZID=Europe/Stockholm:20230919T180000
DTEND;TZID=Europe/Stockholm:20230919T200000
DTSTAMP:20260421T144616
CREATED:20230420T130121Z
LAST-MODIFIED:20230622T115158Z
UID:7868-1695146400-1695153600@businesswomen.se
SUMMARY:Start - Mentorskapsprogram 19 sept
DESCRIPTION:Som deltagare i vårt mentorskapsprogram får du:\n\nProfessionellt bollplank\nKarriärtips och råd\nPersonlig utveckling\nNya kontakter – bygg ditt professionella nätverk\nNy kunskap i form av föreläsningar\n\nUpplägg:\nLängd: 6 månader\nAntal träffar 6-8 stycken varav 3 st arrangeras av Business Women Sverige. och övriga bokas mellan mentor och adept.\nUppstartsträff: Lär känna din mentor/adept och sätt förväntningar tillsammans. Inkl coachande övning för att sätta mål/plan.\nDeltidsträff: Avstämning och diskussion med övriga par\, inkl föreläsning av Karin Jordås ”Så tar du mer plats”\nAvslutningsträff med gemensam middag. Reflektioner och avslutning av programmet. \nNästa start? \nNästa program startar 19 september 2023. \nDatum för gemensamma träffar: \n19 september 2023 \n5 december 2023 \n5 mars 2024 \nPlats: The Park Södra\, Magnus Ladulåsgatan 1\, Stockholm \nLÄS MER OCH ANMÄL DIG HÄR
URL:https://businesswomen.se/event/start-mentorskapsprogram-19-sept/
LOCATION:The Park Södra\, Magnusladulåsgatan 1\, Stockholm\, Sverige
ATTACH;FMTTYPE=image/jpeg:https://businesswomen.se/wp-content/uploads/2023/04/8C872C14-8CC9-4B0F-90FC-352A4402C7AB-e1682426884978.jpg
END:VEVENT
END:VCALENDAR