BEGIN:VCALENDAR
VERSION:2.0
PRODID:-//Businesswomen.se - ECPv6.15.20//NONSGML v1.0//EN
CALSCALE:GREGORIAN
METHOD:PUBLISH
X-WR-CALNAME:Businesswomen.se
X-ORIGINAL-URL:https://businesswomen.se
X-WR-CALDESC:Evenemang för Businesswomen.se
REFRESH-INTERVAL;VALUE=DURATION:PT1H
X-Robots-Tag:noindex
X-PUBLISHED-TTL:PT1H
BEGIN:VTIMEZONE
TZID:Europe/Stockholm
BEGIN:DAYLIGHT
TZOFFSETFROM:+0100
TZOFFSETTO:+0200
TZNAME:CEST
DTSTART:20220327T010000
END:DAYLIGHT
BEGIN:STANDARD
TZOFFSETFROM:+0200
TZOFFSETTO:+0100
TZNAME:CET
DTSTART:20221030T010000
END:STANDARD
BEGIN:DAYLIGHT
TZOFFSETFROM:+0100
TZOFFSETTO:+0200
TZNAME:CEST
DTSTART:20230326T010000
END:DAYLIGHT
BEGIN:STANDARD
TZOFFSETFROM:+0200
TZOFFSETTO:+0100
TZNAME:CET
DTSTART:20231029T010000
END:STANDARD
BEGIN:DAYLIGHT
TZOFFSETFROM:+0100
TZOFFSETTO:+0200
TZNAME:CEST
DTSTART:20240331T010000
END:DAYLIGHT
BEGIN:STANDARD
TZOFFSETFROM:+0200
TZOFFSETTO:+0100
TZNAME:CET
DTSTART:20241027T010000
END:STANDARD
END:VTIMEZONE
BEGIN:VEVENT
DTSTART;TZID=Europe/Stockholm:20230928T090000
DTEND;TZID=Europe/Stockholm:20230928T120000
DTSTAMP:20260421T131658
CREATED:20230913T113454Z
LAST-MODIFIED:20230913T113454Z
UID:8311-1695891600-1695902400@businesswomen.se
SUMMARY:Miniutbildning: Lär dig grunderna i Meta-annonsering!
DESCRIPTION:Väx ditt företag via Meta-annonser. Exklusiv utbildning med experten Joakim Carlsson\nMakten i sociala medier är stor. Många företag startar och bygger hela sin sälj- och marknadsföringskanal via sociala medier. Missa inte potentialen! Men det gäller att veta hur man gör och förstå systemet rätt. Välkommen på en förmiddag där du lär dig grunderna i Ads Manager\, Metas annonsverktyg. \nFör vem?\nDu som: \n\nÄr nybörjare inom Meta-annonser och vill ta ditt första steg mot att boosta ditt företags försäljning\, leadgenerering och synlighet.\n\nDet får du med dig:\n\nGrunderna i Meta-annonseringsstrategi\nHur du praktiskt startar och följer upp annonser\nHjälp med att starta ditt annonskonto eller din första annons\n\nSchema: \n\nGenomgång av meta Meta-annonsverktyg och strategi\nWorkshop där vi sätter upp dina första annonser eller skapar ditt konto\n\nIntro Joakim Carlsson: \nJoakim Carlsson är specialiserad på Meta annonsering för globala såväl som lokala företag. Senast var Joakim på memmo.me där han via Meta och TikTok växte omsättningen från 0 till $10.000.000 på fyra marknader på två år. Under tiden lärde han sig från mentorer från ledande startups som Foodora\, Udemy\, Relatable m.fl..  \nNu frilansar Joakim inom betalda sociala medier och har kunder som gör marknadsföring i Sverige\, USA och England. \nVid sidan av frilansandet gör Joakim en video podcast som heter THINKING MARKETING.  \n”Min inställning är att alla med rätt verktyg och förståelse kan lära sig hur man gör bra annonsering på Meta. Jag hoppas träffa dig den 28:a september!” /Joakim \n\n\nDet praktiska:\nTid: 9-12 (kom gärna 10 min innan för att ta kaffe)\nPlats: The Park Södra\, Magnus Ladulåsgatan 1\nPris: 2500 kr + moms.\nDu som är medlem i medlemsklubben har 20% rabatt.  \nAnmälan är bindande då det är begränsat antal platser. Faktureras i förskott.\n\nHar du frågor\, kontakta info@businesswomen.se\n\nVarmt välkommen att lyckas med din annonsering på Meta!
URL:https://businesswomen.se/event/miniutbildning-lar-dig-grunderna-i-meta-annonsering/
LOCATION:The Park Södra\, Magnusladulåsgatan 1\, Stockholm\, Sverige
ATTACH;FMTTYPE=image/png:https://businesswomen.se/wp-content/uploads/2023/08/Skarmavbild-2023-08-22-kl.-13.21.55-1-e1693484544629.png
END:VEVENT
END:VCALENDAR