BEGIN:VCALENDAR
VERSION:2.0
PRODID:-//Businesswomen.se - ECPv6.15.20//NONSGML v1.0//EN
CALSCALE:GREGORIAN
METHOD:PUBLISH
X-ORIGINAL-URL:https://businesswomen.se
X-WR-CALDESC:Evenemang för Businesswomen.se
REFRESH-INTERVAL;VALUE=DURATION:PT1H
X-Robots-Tag:noindex
X-PUBLISHED-TTL:PT1H
BEGIN:VTIMEZONE
TZID:Europe/Stockholm
BEGIN:DAYLIGHT
TZOFFSETFROM:+0100
TZOFFSETTO:+0200
TZNAME:CEST
DTSTART:20220327T010000
END:DAYLIGHT
BEGIN:STANDARD
TZOFFSETFROM:+0200
TZOFFSETTO:+0100
TZNAME:CET
DTSTART:20221030T010000
END:STANDARD
BEGIN:DAYLIGHT
TZOFFSETFROM:+0100
TZOFFSETTO:+0200
TZNAME:CEST
DTSTART:20230326T010000
END:DAYLIGHT
BEGIN:STANDARD
TZOFFSETFROM:+0200
TZOFFSETTO:+0100
TZNAME:CET
DTSTART:20231029T010000
END:STANDARD
BEGIN:DAYLIGHT
TZOFFSETFROM:+0100
TZOFFSETTO:+0200
TZNAME:CEST
DTSTART:20240331T010000
END:DAYLIGHT
BEGIN:STANDARD
TZOFFSETFROM:+0200
TZOFFSETTO:+0100
TZNAME:CET
DTSTART:20241027T010000
END:STANDARD
END:VTIMEZONE
BEGIN:VEVENT
DTSTART;TZID=Europe/Stockholm:20231117T090000
DTEND;TZID=Europe/Stockholm:20231117T113000
DTSTAMP:20260419T144858
CREATED:20231025T142432Z
LAST-MODIFIED:20231025T142432Z
UID:8416-1700211600-1700220600@businesswomen.se
SUMMARY:Medlemsklubb
DESCRIPTION:VIP-inbjudan – Inspireras av Malin Granlund\, grundare av appen Done!\n\n\n\n\nVälkommen att gästa vår medlemsträff för Business Leaders (du som är grundare och/el VD) där Malin Granlund gästar oss och berättar om hur hon grundat företaget och appen Done\, en app där du kan boka hantverkare. Idag är de 13 anställda och Malin berättar om sin resa\, bästa tips\, med- och motgång och hur de gjort för att ta in kapital. Malin är en sann entreprenör och företagsbyggare så vi ser fram emot en inspirerande och lärorik start på dagen!\n\n\nEventet är endast för medlemmar i medlemsgruppen och dig som får en VIP-plats.\n\n\nDet blir också nätverkande och erfarenhetsutbyte med andra kvinnliga företagare.\n\n\nDet finns ett begränsat antal platser (så boka bara på om du vet att du kan komma 🙂\n\n_____\nDatum: 17 november kl 9-11.30\n\n\nSer fram emot att träffa dig då!\n\nVarmt välkommen!
URL:https://businesswomen.se/event/medlemsklubb/
ATTACH;FMTTYPE=image/png:https://businesswomen.se/wp-content/uploads/2023/05/Skarmavbild-2023-05-22-kl.-11.24.43-e1698243306602.png
END:VEVENT
END:VCALENDAR