BEGIN:VCALENDAR
VERSION:2.0
PRODID:-//Businesswomen.se - ECPv6.15.20//NONSGML v1.0//EN
CALSCALE:GREGORIAN
METHOD:PUBLISH
X-ORIGINAL-URL:https://businesswomen.se
X-WR-CALDESC:Evenemang för Businesswomen.se
REFRESH-INTERVAL;VALUE=DURATION:PT1H
X-Robots-Tag:noindex
X-PUBLISHED-TTL:PT1H
BEGIN:VTIMEZONE
TZID:Europe/Stockholm
BEGIN:DAYLIGHT
TZOFFSETFROM:+0100
TZOFFSETTO:+0200
TZNAME:CEST
DTSTART:20230326T010000
END:DAYLIGHT
BEGIN:STANDARD
TZOFFSETFROM:+0200
TZOFFSETTO:+0100
TZNAME:CET
DTSTART:20231029T010000
END:STANDARD
BEGIN:DAYLIGHT
TZOFFSETFROM:+0100
TZOFFSETTO:+0200
TZNAME:CEST
DTSTART:20240331T010000
END:DAYLIGHT
BEGIN:STANDARD
TZOFFSETFROM:+0200
TZOFFSETTO:+0100
TZNAME:CET
DTSTART:20241027T010000
END:STANDARD
BEGIN:DAYLIGHT
TZOFFSETFROM:+0100
TZOFFSETTO:+0200
TZNAME:CEST
DTSTART:20250330T010000
END:DAYLIGHT
BEGIN:STANDARD
TZOFFSETFROM:+0200
TZOFFSETTO:+0100
TZNAME:CET
DTSTART:20251026T010000
END:STANDARD
END:VTIMEZONE
BEGIN:VEVENT
DTSTART;TZID=Europe/Stockholm:20240912T083000
DTEND;TZID=Europe/Stockholm:20240912T100000
DTSTAMP:20260422T175037
CREATED:20240625T090620Z
LAST-MODIFIED:20240823T121752Z
UID:9145-1726129800-1726135200@businesswomen.se
SUMMARY:Digital VD Workshop
DESCRIPTION:Vill du ha fler verktyg för att bli en mer framgångsrik VD?\n\nSom VD hamnar du ofta med stora beslut\, med uppdraget att skapa en vinnande organisation och hantera motgångar. Samtidigt som du ska lyfta blicken\, bygga strategi och inte fastna i att släcka bränder.\n\nVill du veta mer om vårt utvecklande VD-nätverk där du ingår i en grupp med andra VD för att kompetensutveckla dig\, byta erfarenheter och bena ut dilemman?\n\nVälkommen till vår digitala workshop där du får fler verktyg för att bli framgångsrik som VD\, undvika vanliga misstag och ta bättre beslut.\n\nAnmäl dig här
URL:https://businesswomen.se/event/digital-vd-workshop/
END:VEVENT
END:VCALENDAR