BEGIN:VCALENDAR
VERSION:2.0
PRODID:-//Businesswomen.se - ECPv6.15.20//NONSGML v1.0//EN
CALSCALE:GREGORIAN
METHOD:PUBLISH
X-ORIGINAL-URL:https://businesswomen.se
X-WR-CALDESC:Evenemang för Businesswomen.se
REFRESH-INTERVAL;VALUE=DURATION:PT1H
X-Robots-Tag:noindex
X-PUBLISHED-TTL:PT1H
BEGIN:VTIMEZONE
TZID:Europe/Stockholm
BEGIN:DAYLIGHT
TZOFFSETFROM:+0100
TZOFFSETTO:+0200
TZNAME:CEST
DTSTART:20230326T010000
END:DAYLIGHT
BEGIN:STANDARD
TZOFFSETFROM:+0200
TZOFFSETTO:+0100
TZNAME:CET
DTSTART:20231029T010000
END:STANDARD
BEGIN:DAYLIGHT
TZOFFSETFROM:+0100
TZOFFSETTO:+0200
TZNAME:CEST
DTSTART:20240331T010000
END:DAYLIGHT
BEGIN:STANDARD
TZOFFSETFROM:+0200
TZOFFSETTO:+0100
TZNAME:CET
DTSTART:20241027T010000
END:STANDARD
BEGIN:DAYLIGHT
TZOFFSETFROM:+0100
TZOFFSETTO:+0200
TZNAME:CEST
DTSTART:20250330T010000
END:DAYLIGHT
BEGIN:STANDARD
TZOFFSETFROM:+0200
TZOFFSETTO:+0100
TZNAME:CET
DTSTART:20251026T010000
END:STANDARD
END:VTIMEZONE
BEGIN:VEVENT
DTSTART;TZID=Europe/Stockholm:20240925T173000
DTEND;TZID=Europe/Stockholm:20240925T193000
DTSTAMP:20260422T160201
CREATED:20240522T103045Z
LAST-MODIFIED:20240522T103045Z
UID:9016-1727285400-1727292600@businesswomen.se
SUMMARY:En tryggare framtid - få koll på pensionen som egenföretagare
DESCRIPTION:Business Women Sverige i samarbete med SPP har nöjet att bjuda in dig till en inspirerande kväll där vi utforskar vägen till en tryggare ekonomisk framtid för dig som egenföretagare.\nVi kommer starta kvällen med att dyka in i aktuella makrotrender inom ekonomi\, och sedan flyttar vi fokus över på att ge dig handfasta tips för att maximera din pension. \nDu får med dig viktig kunskap inom ämnen som:\n– Pensionsystem: En översikt och vanliga fallgropar för egenföretagare\n– Riskhantering: Strategier för att maximera din pension\n– Förmånspaket: Hur du bygger attraktiva paket och undviker vanliga arbetsgivarmisstag \nDessutom kommer vi att ha round table-diskussioner där du får möjlighet att dela erfarenheter och lärdomar med andra likasinnade entreprenörer.\nBegränsat antal platser. Anmäl ditt intresse snarast för att säkra din plats till en kväll fylld med insikter och nätverkande. \nDet praktiska:\nNär: 25 september\nTid: 17:30 – 19:30\, inklusive After Work\nAdress: Vasagatan 10\, 111 20 Stockholm\nMålgrupp: Egenföretagare\, med och utan personal \nDet kommer bli en inspirerande kväll med nya kunskaper kring vad du kan göra för att förbättra din framtida ekonomi. \nVarmt välkommen!\nBusiness Women Sverige & SPP \nANMÄL DIG HÄR
URL:https://businesswomen.se/event/en-tryggare-framtid-fa-koll-pa-pensionen-som-egenforetagare/
LOCATION:Vasagatan 10\, 111 20 Stockholm\, Vasagatan 10\, Stockholm\, 11120\, Sverige
ATTACH;FMTTYPE=image/png:https://businesswomen.se/wp-content/uploads/2024/05/SPP-event-2.png
END:VEVENT
END:VCALENDAR