BEGIN:VCALENDAR
VERSION:2.0
PRODID:-//Businesswomen.se - ECPv6.15.20//NONSGML v1.0//EN
CALSCALE:GREGORIAN
METHOD:PUBLISH
X-WR-CALNAME:Businesswomen.se
X-ORIGINAL-URL:https://businesswomen.se
X-WR-CALDESC:Evenemang för Businesswomen.se
REFRESH-INTERVAL;VALUE=DURATION:PT1H
X-Robots-Tag:noindex
X-PUBLISHED-TTL:PT1H
BEGIN:VTIMEZONE
TZID:Europe/Stockholm
BEGIN:DAYLIGHT
TZOFFSETFROM:+0100
TZOFFSETTO:+0200
TZNAME:CEST
DTSTART:20230326T010000
END:DAYLIGHT
BEGIN:STANDARD
TZOFFSETFROM:+0200
TZOFFSETTO:+0100
TZNAME:CET
DTSTART:20231029T010000
END:STANDARD
BEGIN:DAYLIGHT
TZOFFSETFROM:+0100
TZOFFSETTO:+0200
TZNAME:CEST
DTSTART:20240331T010000
END:DAYLIGHT
BEGIN:STANDARD
TZOFFSETFROM:+0200
TZOFFSETTO:+0100
TZNAME:CET
DTSTART:20241027T010000
END:STANDARD
BEGIN:DAYLIGHT
TZOFFSETFROM:+0100
TZOFFSETTO:+0200
TZNAME:CEST
DTSTART:20250330T010000
END:DAYLIGHT
BEGIN:STANDARD
TZOFFSETFROM:+0200
TZOFFSETTO:+0100
TZNAME:CET
DTSTART:20251026T010000
END:STANDARD
END:VTIMEZONE
BEGIN:VEVENT
DTSTART;TZID=Europe/Stockholm:20241010T090000
DTEND;TZID=Europe/Stockholm:20241010T163000
DTSTAMP:20260422T044224
CREATED:20240625T094257Z
LAST-MODIFIED:20240625T094257Z
UID:9158-1728550800-1728577800@businesswomen.se
SUMMARY:VD – nätverk
DESCRIPTION:Vill du få tillgång till ett exklusivt nätverk av framstående kvinnliga VD inom olika branscher och sektorer?\nI höst lanseras Business Women Sveriges VD – nätverk där du via våra träffar får erfarenhetsutbyte\, kompetensutveckling och ta del av olika dilemman du som VD står inför. För att du ska kunna ta bättre beslut\, bli tryggare i rollen och få företaget att prestera bättre. \n\nLäs mer och anmäl dig här.\n\nhttps://businesswomen.se/vd-natverk/ 
URL:https://businesswomen.se/event/vd-natverk/
END:VEVENT
END:VCALENDAR