BEGIN:VCALENDAR
VERSION:2.0
PRODID:-//Businesswomen.se - ECPv6.15.20//NONSGML v1.0//EN
CALSCALE:GREGORIAN
METHOD:PUBLISH
X-ORIGINAL-URL:https://businesswomen.se
X-WR-CALDESC:Evenemang för Businesswomen.se
REFRESH-INTERVAL;VALUE=DURATION:PT1H
X-Robots-Tag:noindex
X-PUBLISHED-TTL:PT1H
BEGIN:VTIMEZONE
TZID:Europe/Stockholm
BEGIN:DAYLIGHT
TZOFFSETFROM:+0100
TZOFFSETTO:+0200
TZNAME:CEST
DTSTART:20230326T010000
END:DAYLIGHT
BEGIN:STANDARD
TZOFFSETFROM:+0200
TZOFFSETTO:+0100
TZNAME:CET
DTSTART:20231029T010000
END:STANDARD
BEGIN:DAYLIGHT
TZOFFSETFROM:+0100
TZOFFSETTO:+0200
TZNAME:CEST
DTSTART:20240331T010000
END:DAYLIGHT
BEGIN:STANDARD
TZOFFSETFROM:+0200
TZOFFSETTO:+0100
TZNAME:CET
DTSTART:20241027T010000
END:STANDARD
BEGIN:DAYLIGHT
TZOFFSETFROM:+0100
TZOFFSETTO:+0200
TZNAME:CEST
DTSTART:20250330T010000
END:DAYLIGHT
BEGIN:STANDARD
TZOFFSETFROM:+0200
TZOFFSETTO:+0100
TZNAME:CET
DTSTART:20251026T010000
END:STANDARD
END:VTIMEZONE
BEGIN:VEVENT
DTSTART;TZID=Europe/Stockholm:20241124T100000
DTEND;TZID=Europe/Stockholm:20241124T130000
DTSTAMP:20260422T032642
CREATED:20241024T075020Z
LAST-MODIFIED:20241027T071111Z
UID:9491-1732442400-1732453200@businesswomen.se
SUMMARY:Utbildning Från anställd till egen
DESCRIPTION:Intro till entreprenörskap – så tar du steget vidare.\nHur går man tillväga för att starta eget företag? Var börjar man rent praktiskt och vad behöver man ha koll på? I denna introduktionsutbildning får du verktygen för att gå från anställd till egenföretagare. \nNyfiken? Läs mer och anmäl dig på Utbildning Från anställd till egen >>
URL:https://businesswomen.se/event/utbildning-fran-anstalld-till-egen/
END:VEVENT
END:VCALENDAR