BEGIN:VCALENDAR
VERSION:2.0
PRODID:-//Businesswomen.se - ECPv6.15.20//NONSGML v1.0//EN
CALSCALE:GREGORIAN
METHOD:PUBLISH
X-ORIGINAL-URL:https://businesswomen.se
X-WR-CALDESC:Evenemang för Businesswomen.se
REFRESH-INTERVAL;VALUE=DURATION:PT1H
X-Robots-Tag:noindex
X-PUBLISHED-TTL:PT1H
BEGIN:VTIMEZONE
TZID:Europe/Stockholm
BEGIN:DAYLIGHT
TZOFFSETFROM:+0100
TZOFFSETTO:+0200
TZNAME:CEST
DTSTART:20240331T010000
END:DAYLIGHT
BEGIN:STANDARD
TZOFFSETFROM:+0200
TZOFFSETTO:+0100
TZNAME:CET
DTSTART:20241027T010000
END:STANDARD
BEGIN:DAYLIGHT
TZOFFSETFROM:+0100
TZOFFSETTO:+0200
TZNAME:CEST
DTSTART:20250330T010000
END:DAYLIGHT
BEGIN:STANDARD
TZOFFSETFROM:+0200
TZOFFSETTO:+0100
TZNAME:CET
DTSTART:20251026T010000
END:STANDARD
BEGIN:DAYLIGHT
TZOFFSETFROM:+0100
TZOFFSETTO:+0200
TZNAME:CEST
DTSTART:20260329T010000
END:DAYLIGHT
BEGIN:STANDARD
TZOFFSETFROM:+0200
TZOFFSETTO:+0100
TZNAME:CET
DTSTART:20261025T010000
END:STANDARD
END:VTIMEZONE
BEGIN:VEVENT
DTSTART;TZID=Europe/Stockholm:20250116T140000
DTEND;TZID=Europe/Stockholm:20250116T163000
DTSTAMP:20260421T214822
CREATED:20241203T095400Z
LAST-MODIFIED:20241212T105850Z
UID:9661-1737036000-1737045000@businesswomen.se
SUMMARY:VD-nätverksträff
DESCRIPTION:Business Women Sveriges VD-nätverk är för dig som är VD i ett bolag och som vill utveckla och förbättra dig i rollen som VD. \nTillsammans med andra VD:ar diskuterar ni relevanta frågeställningar och era utmaningar och varje träff har även ett utbildande block som utvecklar dig i rollen till en mer handlingskraftig VD och tryggare i dina beslut. \nÄr du VD för ett företag som omsätter +10 milj eller har +10 anställda och vill gästa nätverket den 16 januari? Anmäl dig till info@businesswomen.se. \nPlats: The Park Forskaren\, Stockholm \nVarmt välkommen!
URL:https://businesswomen.se/event/vd-natverkstraff/
END:VEVENT
END:VCALENDAR