BEGIN:VCALENDAR
VERSION:2.0
PRODID:-//Businesswomen.se - ECPv6.15.20//NONSGML v1.0//EN
CALSCALE:GREGORIAN
METHOD:PUBLISH
X-ORIGINAL-URL:https://businesswomen.se
X-WR-CALDESC:Evenemang för Businesswomen.se
REFRESH-INTERVAL;VALUE=DURATION:PT1H
X-Robots-Tag:noindex
X-PUBLISHED-TTL:PT1H
BEGIN:VTIMEZONE
TZID:Europe/Stockholm
BEGIN:DAYLIGHT
TZOFFSETFROM:+0100
TZOFFSETTO:+0200
TZNAME:CEST
DTSTART:20240331T010000
END:DAYLIGHT
BEGIN:STANDARD
TZOFFSETFROM:+0200
TZOFFSETTO:+0100
TZNAME:CET
DTSTART:20241027T010000
END:STANDARD
BEGIN:DAYLIGHT
TZOFFSETFROM:+0100
TZOFFSETTO:+0200
TZNAME:CEST
DTSTART:20250330T010000
END:DAYLIGHT
BEGIN:STANDARD
TZOFFSETFROM:+0200
TZOFFSETTO:+0100
TZNAME:CET
DTSTART:20251026T010000
END:STANDARD
BEGIN:DAYLIGHT
TZOFFSETFROM:+0100
TZOFFSETTO:+0200
TZNAME:CEST
DTSTART:20260329T010000
END:DAYLIGHT
BEGIN:STANDARD
TZOFFSETFROM:+0200
TZOFFSETTO:+0100
TZNAME:CET
DTSTART:20261025T010000
END:STANDARD
END:VTIMEZONE
BEGIN:VEVENT
DTSTART;VALUE=DATE:20250305
DTEND;VALUE=DATE:20250307
DTSTAMP:20260421T160604
CREATED:20241105T132146Z
LAST-MODIFIED:20250211T091258Z
UID:9549-1741132800-1741305599@businesswomen.se
SUMMARY:Styrelseutbildning
DESCRIPTION:Är du redo att bidra med din kompetens i styrelserummet eller i en Advisory Board?\nVi lanserar för andra gången Business Womens Styrelseutbildning där du får tillgång till expertis och erfarenheter från våra styrelseproffs samt möjlighet att matchas med styrelse- eller Advisory Boarduppdrag utifrån dina kunskaper.\nUtbildningen är två heldagar samt ett matchningstillfälle där du får träffa företag som kan leta efter just din profil.\n\nLäs mer om vår Styrelseutbildning >
URL:https://businesswomen.se/event/styrelseutbildning-mars/
LOCATION:Centralt i Stockholm
END:VEVENT
END:VCALENDAR