BEGIN:VCALENDAR
VERSION:2.0
PRODID:-//Businesswomen.se - ECPv6.15.20//NONSGML v1.0//EN
CALSCALE:GREGORIAN
METHOD:PUBLISH
X-WR-CALNAME:Businesswomen.se
X-ORIGINAL-URL:https://businesswomen.se
X-WR-CALDESC:Evenemang för Businesswomen.se
REFRESH-INTERVAL;VALUE=DURATION:PT1H
X-Robots-Tag:noindex
X-PUBLISHED-TTL:PT1H
BEGIN:VTIMEZONE
TZID:Europe/Stockholm
BEGIN:DAYLIGHT
TZOFFSETFROM:+0100
TZOFFSETTO:+0200
TZNAME:CEST
DTSTART:20240331T010000
END:DAYLIGHT
BEGIN:STANDARD
TZOFFSETFROM:+0200
TZOFFSETTO:+0100
TZNAME:CET
DTSTART:20241027T010000
END:STANDARD
BEGIN:DAYLIGHT
TZOFFSETFROM:+0100
TZOFFSETTO:+0200
TZNAME:CEST
DTSTART:20250330T010000
END:DAYLIGHT
BEGIN:STANDARD
TZOFFSETFROM:+0200
TZOFFSETTO:+0100
TZNAME:CET
DTSTART:20251026T010000
END:STANDARD
BEGIN:DAYLIGHT
TZOFFSETFROM:+0100
TZOFFSETTO:+0200
TZNAME:CEST
DTSTART:20260329T010000
END:DAYLIGHT
BEGIN:STANDARD
TZOFFSETFROM:+0200
TZOFFSETTO:+0100
TZNAME:CET
DTSTART:20261025T010000
END:STANDARD
END:VTIMEZONE
BEGIN:VEVENT
DTSTART;TZID=Europe/Stockholm:20250316T100000
DTEND;TZID=Europe/Stockholm:20250316T130000
DTSTAMP:20260421T160458
CREATED:20240816T094935Z
LAST-MODIFIED:20250211T090624Z
UID:9225-1742119200-1742130000@businesswomen.se
SUMMARY:Utbildning Intro till Entreprenörskap
DESCRIPTION:Välkommen till utbildningen Intro i entreprenörskap! För dig som vill gå från anställd till egen företagare.\nHur gör man när man vill starta eget? Vad behöver man ha koll på och vart börjar man rent praktiskt? Detta är precis frågor som du får svar på i denna introduktionsutbildning. Samla verktygen du behöver för att gå från anställd till egen företagare.\n\nModul 1 ingår kostnadsfritt för medlemmar i medlemsklubben – Karriär.\n\nLäs mer och anmäl dig till Intro i entreprenörskap >>
URL:https://businesswomen.se/event/intro-till-entreprenorskap/
LOCATION:Centralt i Stockholm
END:VEVENT
END:VCALENDAR