BEGIN:VCALENDAR
VERSION:2.0
PRODID:-//Businesswomen.se - ECPv6.15.20//NONSGML v1.0//EN
CALSCALE:GREGORIAN
METHOD:PUBLISH
X-WR-CALNAME:Businesswomen.se
X-ORIGINAL-URL:https://businesswomen.se
X-WR-CALDESC:Evenemang för Businesswomen.se
REFRESH-INTERVAL;VALUE=DURATION:PT1H
X-Robots-Tag:noindex
X-PUBLISHED-TTL:PT1H
BEGIN:VTIMEZONE
TZID:Europe/Stockholm
BEGIN:DAYLIGHT
TZOFFSETFROM:+0100
TZOFFSETTO:+0200
TZNAME:CEST
DTSTART:20210328T010000
END:DAYLIGHT
BEGIN:STANDARD
TZOFFSETFROM:+0200
TZOFFSETTO:+0100
TZNAME:CET
DTSTART:20211031T010000
END:STANDARD
BEGIN:DAYLIGHT
TZOFFSETFROM:+0100
TZOFFSETTO:+0200
TZNAME:CEST
DTSTART:20220327T010000
END:DAYLIGHT
BEGIN:STANDARD
TZOFFSETFROM:+0200
TZOFFSETTO:+0100
TZNAME:CET
DTSTART:20221030T010000
END:STANDARD
BEGIN:DAYLIGHT
TZOFFSETFROM:+0100
TZOFFSETTO:+0200
TZNAME:CEST
DTSTART:20230326T010000
END:DAYLIGHT
BEGIN:STANDARD
TZOFFSETFROM:+0200
TZOFFSETTO:+0100
TZNAME:CET
DTSTART:20231029T010000
END:STANDARD
END:VTIMEZONE
BEGIN:VEVENT
DTSTART;TZID=Europe/Stockholm:20220518T173000
DTEND;TZID=Europe/Stockholm:20220518T203000
DTSTAMP:20260422T161715
CREATED:20220426T102743Z
LAST-MODIFIED:20220502T074726Z
UID:6121-1652895000-1652905800@businesswomen.se
SUMMARY:Workshop Mental Styrka
DESCRIPTION:”Du kan mer än du tror”\nVill du ha mer mental styrka? Vi är stolta att den 18 maj ha med oss Ann-Charlotte Lyman\, militär och Pernilla Nilsson\, rekryt #18 från TV4s Elitstyrkans hemligheter. \nDe delar sina resor och bästa tips med dig. \nRegistrera dig på businesswomen.se/medlem för inbjudan. \n 
URL:https://businesswomen.se/event/workshop-mental-styrka/
ATTACH;FMTTYPE=image/png:https://businesswomen.se/wp-content/uploads/2022/04/Skärmavbild-2022-04-29-kl.-10.32.25-e1651477620629.png
END:VEVENT
BEGIN:VEVENT
DTSTART;TZID=Europe/Stockholm:20220531T180000
DTEND;TZID=Europe/Stockholm:20220531T190000
DTSTAMP:20260422T161715
CREATED:20220502T075337Z
LAST-MODIFIED:20220502T075337Z
UID:6127-1654020000-1654023600@businesswomen.se
SUMMARY:Webinar "Råd till min kära dotter"
DESCRIPTION:Marianne Hamilton\, författare och näringslivsprofil med 16 år i Atlas Copcos koncernledning och flera styrelseuppdrag\, har skrivit en inspirationsbok för kvinnor som vill satsa på sina karriärer. I Några råd till min dotter delar hon med sig av sina erfarenheter och ger 46 konkreta tips i välkända situationer. Råden hjälper läsaren att navigera inom näringslivet och nå framgång.  \nBoken finns på svenska\, engelska\, franska och holländska. Köp den hos Adlibris\, Bokus eller Akademibokhandeln. \nDen 31 maj delar hon sina bästa tips med dig via vårt webinar. \nInbjudan går till dig som är medlem i vår community\, registrera dig på businesswomen.se/medlem \n 
URL:https://businesswomen.se/event/webinar-rad-till-min-kara-dotter/
ATTACH;FMTTYPE=image/png:https://businesswomen.se/wp-content/uploads/2022/05/Skärmavbild-2022-04-29-kl.-10.10.01-e1651477802355.png
END:VEVENT
END:VCALENDAR