BEGIN:VCALENDAR
VERSION:2.0
PRODID:-//Businesswomen.se - ECPv6.15.20//NONSGML v1.0//EN
CALSCALE:GREGORIAN
METHOD:PUBLISH
X-ORIGINAL-URL:https://businesswomen.se
X-WR-CALDESC:Evenemang för Businesswomen.se
REFRESH-INTERVAL;VALUE=DURATION:PT1H
X-Robots-Tag:noindex
X-PUBLISHED-TTL:PT1H
BEGIN:VTIMEZONE
TZID:Europe/Stockholm
BEGIN:DAYLIGHT
TZOFFSETFROM:+0100
TZOFFSETTO:+0200
TZNAME:CEST
DTSTART:20210328T010000
END:DAYLIGHT
BEGIN:STANDARD
TZOFFSETFROM:+0200
TZOFFSETTO:+0100
TZNAME:CET
DTSTART:20211031T010000
END:STANDARD
BEGIN:DAYLIGHT
TZOFFSETFROM:+0100
TZOFFSETTO:+0200
TZNAME:CEST
DTSTART:20220327T010000
END:DAYLIGHT
BEGIN:STANDARD
TZOFFSETFROM:+0200
TZOFFSETTO:+0100
TZNAME:CET
DTSTART:20221030T010000
END:STANDARD
BEGIN:DAYLIGHT
TZOFFSETFROM:+0100
TZOFFSETTO:+0200
TZNAME:CEST
DTSTART:20230326T010000
END:DAYLIGHT
BEGIN:STANDARD
TZOFFSETFROM:+0200
TZOFFSETTO:+0100
TZNAME:CET
DTSTART:20231029T010000
END:STANDARD
END:VTIMEZONE
BEGIN:VEVENT
DTSTART;TZID=Europe/Stockholm:20221011T083000
DTEND;TZID=Europe/Stockholm:20221011T110000
DTSTAMP:20260422T080000
CREATED:20220905T083521Z
LAST-MODIFIED:20220909T131540Z
UID:6264-1665477000-1665486000@businesswomen.se
SUMMARY:Affärsnätverket uppstartsträff 11 oktober!
DESCRIPTION:Nu drar vi äntligen igång! \nVarmt välkommen på uppstartsträffen av Business Women Affärsnätverk! \nEtt affärsnätverk som fokuserar på att du ska göra fler affärer och kompetensutveckla dig för att kunna bygga ett stabilt och lönsamt företag – och vara hållbar på vägen. Du kommer träffa och lära känna andra företagare\, möta experter och förebilder inom att starta och bygga bolag. \nTema: Bygga bolag. \n11 oktober kl 8.30-11\, programstart kl 9. \nVi håller till på The Park. \nFörsta träffen är kostnadsfri. \n\nAnmäl dig till uppstartsträffen HÄR. \n\n 
URL:https://businesswomen.se/event/affarsnatverket-starttraff-11-oktober/
LOCATION:The Park Södra\, Magnusladulåsgatan 1\, Stockholm\, Sverige
ATTACH;FMTTYPE=image/png:https://businesswomen.se/wp-content/uploads/2022/09/Skärmavbild-2022-09-05-kl.-10.08.50-e1662365497937.png
END:VEVENT
END:VCALENDAR