BEGIN:VCALENDAR
VERSION:2.0
PRODID:-//Businesswomen.se - ECPv6.15.20//NONSGML v1.0//EN
CALSCALE:GREGORIAN
METHOD:PUBLISH
X-WR-CALNAME:Businesswomen.se
X-ORIGINAL-URL:https://businesswomen.se
X-WR-CALDESC:Evenemang för Businesswomen.se
REFRESH-INTERVAL;VALUE=DURATION:PT1H
X-Robots-Tag:noindex
X-PUBLISHED-TTL:PT1H
BEGIN:VTIMEZONE
TZID:Europe/Stockholm
BEGIN:DAYLIGHT
TZOFFSETFROM:+0100
TZOFFSETTO:+0200
TZNAME:CEST
DTSTART:20210328T010000
END:DAYLIGHT
BEGIN:STANDARD
TZOFFSETFROM:+0200
TZOFFSETTO:+0100
TZNAME:CET
DTSTART:20211031T010000
END:STANDARD
BEGIN:DAYLIGHT
TZOFFSETFROM:+0100
TZOFFSETTO:+0200
TZNAME:CEST
DTSTART:20220327T010000
END:DAYLIGHT
BEGIN:STANDARD
TZOFFSETFROM:+0200
TZOFFSETTO:+0100
TZNAME:CET
DTSTART:20221030T010000
END:STANDARD
BEGIN:DAYLIGHT
TZOFFSETFROM:+0100
TZOFFSETTO:+0200
TZNAME:CEST
DTSTART:20230326T010000
END:DAYLIGHT
BEGIN:STANDARD
TZOFFSETFROM:+0200
TZOFFSETTO:+0100
TZNAME:CET
DTSTART:20231029T010000
END:STANDARD
END:VTIMEZONE
BEGIN:VEVENT
DTSTART;TZID=Europe/Stockholm:20221201T173000
DTEND;TZID=Europe/Stockholm:20221201T190000
DTSTAMP:20260422T051143
CREATED:20221109T155450Z
LAST-MODIFIED:20221110T122639Z
UID:6631-1669915800-1669921200@businesswomen.se
SUMMARY:Event Göteborg - tema intro till entreprenörskap
DESCRIPTION:Hur gör jag om jag vill starta företag? Var ska jag börja och vad behöver jag ha koll på? Hur skaffar jag ett nätverk som kan hjälpa mig – och orkar jag verkligen med all administration? Affärsnätverket Business Women Sverige och den automatiserade bokföringstjänsten Wint bjuder in till en intressant kväll för dig som planerar att\, eller funderar på att\, starta eget företag. Kom och låt dig inspireras\, lära dig\, få rätsida på dina funderingar och mingla med andra entreprenörer. \n  \nKvällen i korthet:\n17:30 Mingel på våning 23\, Wints huvudkontor (Jacy’s hotell)\n18:00 Charlotta Lundin föreläser på temat ”Intro till entreprenörskap – vad är bra att veta?”\n18:30 Wint berättar hur vi arbetar för att sticka ut och sänka trösklar för företagare. \nAntalet platser är begränsat så anmäl dig snabbt för att säkra din. \nVarmt välkommen! \n  \nLÄS MER OCH ANMÄL DIG HÄR
URL:https://businesswomen.se/event/event-goteborg-tema-intro-till-entreprenorskap/
LOCATION:Kineum\, Göteborg\, 41250\, Sverige
ATTACH;FMTTYPE=image/jpeg:https://businesswomen.se/wp-content/uploads/2022/11/5B4F32DC-13BB-4210-B3F5-D1008D540DB3.jpg
END:VEVENT
BEGIN:VEVENT
DTSTART;TZID=Europe/Stockholm:20221205T083000
DTEND;TZID=Europe/Stockholm:20221205T110000
DTSTAMP:20260422T051143
CREATED:20221107T144025Z
LAST-MODIFIED:20221122T093601Z
UID:6379-1670229000-1670238000@businesswomen.se
SUMMARY:Affärsnätverk 5 december: Ditt personliga varumärke
DESCRIPTION:Varför är det viktigt med ett starkt personligt varumärke och hur skapar du ditt? \nHur ska man agera inifrån och ut och hur ska man tänka och sätta sitt personliga värde i ett företagarperspektiv? \nNi får möta Pernilla Bertilson som har lång erfarenhet av digital marknadsföring och kommunikation\, som nu föreläser och inspirerar inom Personal Brand. \n  \nTräffen hålls måndagen den 5 december på The Park Södra\, Magnus Ladulåsgatan 1\, Stockholm \n  \n\nLÄS MER OCH ANMÄL DIG HÄR
URL:https://businesswomen.se/event/affarsnatverk-5-december-ditt-personliga-varumarke/
LOCATION:The Park Södra\, Magnusladulåsgatan 1\, Stockholm\, Sverige
ATTACH;FMTTYPE=image/jpeg:https://businesswomen.se/wp-content/uploads/2022/11/IMG_5730-4.jpg
END:VEVENT
END:VCALENDAR