BEGIN:VCALENDAR
VERSION:2.0
PRODID:-//Businesswomen.se - ECPv6.15.20//NONSGML v1.0//EN
CALSCALE:GREGORIAN
METHOD:PUBLISH
X-WR-CALNAME:Businesswomen.se
X-ORIGINAL-URL:https://businesswomen.se
X-WR-CALDESC:Evenemang för Businesswomen.se
REFRESH-INTERVAL;VALUE=DURATION:PT1H
X-Robots-Tag:noindex
X-PUBLISHED-TTL:PT1H
BEGIN:VTIMEZONE
TZID:Europe/Stockholm
BEGIN:DAYLIGHT
TZOFFSETFROM:+0100
TZOFFSETTO:+0200
TZNAME:CEST
DTSTART:20220327T010000
END:DAYLIGHT
BEGIN:STANDARD
TZOFFSETFROM:+0200
TZOFFSETTO:+0100
TZNAME:CET
DTSTART:20221030T010000
END:STANDARD
BEGIN:DAYLIGHT
TZOFFSETFROM:+0100
TZOFFSETTO:+0200
TZNAME:CEST
DTSTART:20230326T010000
END:DAYLIGHT
BEGIN:STANDARD
TZOFFSETFROM:+0200
TZOFFSETTO:+0100
TZNAME:CET
DTSTART:20231029T010000
END:STANDARD
BEGIN:DAYLIGHT
TZOFFSETFROM:+0100
TZOFFSETTO:+0200
TZNAME:CEST
DTSTART:20240331T010000
END:DAYLIGHT
BEGIN:STANDARD
TZOFFSETFROM:+0200
TZOFFSETTO:+0100
TZNAME:CET
DTSTART:20241027T010000
END:STANDARD
END:VTIMEZONE
BEGIN:VEVENT
DTSTART;TZID=Europe/Stockholm:20230502T090000
DTEND;TZID=Europe/Stockholm:20230502T160000
DTSTAMP:20260421T215141
CREATED:20230315T121833Z
LAST-MODIFIED:20230321T140141Z
UID:7778-1683018000-1683043200@businesswomen.se
SUMMARY:Pilotprogram Advisory & Growth program
DESCRIPTION:Vill du vara med och göra skillnad? Var med och se till att Sverige får fler framgångsrika företag drivna av kvinnor\, samtidigt som du stärker ditt egna företag.\nSom företagare är det lätt att man blir ensam med stora beslut. Man förväntas också vara expert och kunnig inom alla områden som finansiering\, organisation\, delägarskap\, sälj och marknadsföring. Men ensam är inte stark och genom att inte ta hjälp av andra riskerar ditt bolag att fastna. Via det här pilotprogrammet vill vi testa ett nytt koncept där vi hjälper er bli varandras experter för att kunna ge varandra råd\, input och kunskap på hur du ska kunna bygga ditt bolag stabilare och ta rätt beslut.  \nI pilotprogrammet blir du en del av grupp om 5-7 personer med olika kompetenser\, men där alla företagare. Ni träffas och pratar utmaningar här och nu men blickar även framåt och går igenom utmaningar och möjligheter inom: \n-Försäljning/Marknad \n-Organisation/delägarskap \n-Personligt ledarskap \n-Vision/Strategi \nPilotprogrammet är en koncentrerad version under våren där vi ses en heldag och tre halvdagar. \nDatum: \n18-april heldag kl 9-16 \n2-maj halvdag kl 8-12 \n16-maj halvdag kl 8-12 \n30-maj halvdag kl 8-12 \nVi håller till på The Park Södra i Stockholm. \nPris: 4900 kr + moms\, faktureras i förskott. (kan delbetalas i två delar) \nOrdinarie program (med annan högre prisbild) planerar starta efter sommaren 2023. \nVem är du? \nDu är företagare eller VD och har erfarenhet av att driva företag och har god kunskap om dess utmaningar och möjligheter. Du vill få ditt bolag att växa med lönsamhet från er nuvarande nivå och ta in extern kompetens i ditt bolag. \nProcessen: Är du intresserad av vara med i vårt pilotprojekt? Fyll i din ansökan nedan så kommer vi i nästa steg återkomma till dig. Gruppen om 5-7 personer sätts samman för att komplettera varandras kompetenser. Blir du uttagen till gruppen meddelas du senast 31 mars. \nAnsökan till pilotprogrammet görs genom att fylla i formuläret via länken senast 24 mars. \nVälkommen med din ansökan! \nANSÖK HÄR
URL:https://businesswomen.se/event/pilotprogram-advisory-growth-program/
LOCATION:The Park Södra\, Magnusladulåsgatan 1\, Stockholm\, Sverige
ATTACH;FMTTYPE=image/png:https://businesswomen.se/wp-content/uploads/2023/03/Screenshot-2023-03-03-at-11.22.56-1.png
END:VEVENT
BEGIN:VEVENT
DTSTART;TZID=Europe/Stockholm:20230510T173000
DTEND;TZID=Europe/Stockholm:20230510T191500
DTSTAMP:20260421T215141
CREATED:20230323T105439Z
LAST-MODIFIED:20230420T083436Z
UID:7814-1683739800-1683746100@businesswomen.se
SUMMARY:Event med Omega - Tema Ledarskap & Försäljning
DESCRIPTION:Att jobba inom försäljning är ofta en grundsten för en VD-roll. Att förstå och kunna området är navet för företaget. Men hur jobbar man framgångsrikt inom försäljning och hur leder man andra? Gun Falk har en gedigen erfarenhet och kunskap och delar sina resa och bästa råd med oss. Som tidigare försäljningsdirektör för Escada\, Europachef för Ralph Lauren och numera Retail Director för Watches of Switserland har hon ett internationellt perspektiv och erfarenhet från stora globala organisationer. Välkommen att inspireras av Gun! \nDu får också träffa andra inspirerande kvinnor och företagare i karriären och knyta nya kontakter. Eventet är för dig med en ledande roll.  \nAnmälan sker endast via inbjudan. \nVarmt välkommen!
URL:https://businesswomen.se/event/event-med-omega-tema-ledarskap-forsaljning/
LOCATION:Biblioteksgatan 3\, Biblioteksgatan 3\, Stockholm\, 111 46\, Sverige
ATTACH;FMTTYPE=image/png:https://businesswomen.se/wp-content/uploads/2023/03/Skarmavbild-2023-04-08-kl.-11.59.41-e1681979586289.png
END:VEVENT
END:VCALENDAR