BEGIN:VCALENDAR
VERSION:2.0
PRODID:-//Businesswomen.se - ECPv6.15.20//NONSGML v1.0//EN
CALSCALE:GREGORIAN
METHOD:PUBLISH
X-WR-CALNAME:Businesswomen.se
X-ORIGINAL-URL:https://businesswomen.se
X-WR-CALDESC:Evenemang för Businesswomen.se
REFRESH-INTERVAL;VALUE=DURATION:PT1H
X-Robots-Tag:noindex
X-PUBLISHED-TTL:PT1H
BEGIN:VTIMEZONE
TZID:Europe/Stockholm
BEGIN:DAYLIGHT
TZOFFSETFROM:+0100
TZOFFSETTO:+0200
TZNAME:CEST
DTSTART:20220327T010000
END:DAYLIGHT
BEGIN:STANDARD
TZOFFSETFROM:+0200
TZOFFSETTO:+0100
TZNAME:CET
DTSTART:20221030T010000
END:STANDARD
BEGIN:DAYLIGHT
TZOFFSETFROM:+0100
TZOFFSETTO:+0200
TZNAME:CEST
DTSTART:20230326T010000
END:DAYLIGHT
BEGIN:STANDARD
TZOFFSETFROM:+0200
TZOFFSETTO:+0100
TZNAME:CET
DTSTART:20231029T010000
END:STANDARD
BEGIN:DAYLIGHT
TZOFFSETFROM:+0100
TZOFFSETTO:+0200
TZNAME:CEST
DTSTART:20240331T010000
END:DAYLIGHT
BEGIN:STANDARD
TZOFFSETFROM:+0200
TZOFFSETTO:+0100
TZNAME:CET
DTSTART:20241027T010000
END:STANDARD
END:VTIMEZONE
BEGIN:VEVENT
DTSTART;TZID=Europe/Stockholm:20230823T180000
DTEND;TZID=Europe/Stockholm:20230823T193000
DTSTAMP:20260421T144505
CREATED:20230622T112422Z
LAST-MODIFIED:20230622T113110Z
UID:8090-1692813600-1692819000@businesswomen.se
SUMMARY:Infomöte och AW mentorskapsprogrammet
DESCRIPTION:Välkommen till infoträff om mentorskapets styrkor!\nVarför är mentorskap bra\, vem är det för och hur kan du eller din organisation växla ut det? Vi berättar mer om mentorskap\, vårt program och vad det kan leda till.\nProgrammet har ett coachande förhållningssätt och föreläsningar\, samt diskussionsforum om t.ex. hur du kan hantera svåra situationer och samtal. Programchef är Karin Jordås\, tidigare generalsekreterare på organisationen Mentor som instiftades av Drottning Silvia och med näringslivets topp i styrelsen. Programmet drivs tillsammans med Charlotta Lundin\, grundare av Business Women Sverige.\n\n–\n\n\nANMÄL DIG HÄR
URL:https://businesswomen.se/event/infomote-och-aw-mentorskapsprogrammet/
LOCATION:The Park Södra\, Magnusladulåsgatan 1\, Stockholm\, Sverige
ATTACH;FMTTYPE=image/png:https://businesswomen.se/wp-content/uploads/2023/06/Skarmavbild-2023-06-22-kl.-10.48.43-e1687433389447.png
END:VEVENT
BEGIN:VEVENT
DTSTART;TZID=Europe/Stockholm:20230825T090000
DTEND;TZID=Europe/Stockholm:20230825T100000
DTSTAMP:20260421T144505
CREATED:20230622T114559Z
LAST-MODIFIED:20230622T114559Z
UID:8100-1692954000-1692957600@businesswomen.se
SUMMARY:Infomöte: Advisory & Growth-programmet
DESCRIPTION:Som företagare är det lätt att man blir ensam med stora beslut. Man förväntas också vara expert och kunnig inom alla områden som finansiering\, organisation\, delägarskap\, sälj och marknadsföring. Men ensam är inte stark och genom att inte ta hjälp av andra riskerar ditt bolag att fastna.\n\n\n\n\n\n\nVia det här programmet hjälper er bli varandras experter för att kunna ge varandra råd\, input och kunskap på hur du ska kunna bygga ditt bolag stabilare och ta rätt beslut.\n\n\n\n\n\n\n\n\n\n\n\n\n\n\n\n\n\n\n\nVälkommen på ett infomöte där du träffar andra företagare\, får testa konceptet och får mer info om programmet som startar 12 september.\n\n–\n\n\n\nANMÄL DIG HÄR
URL:https://businesswomen.se/event/infomote-advisory-growth-programmet/
LOCATION:The Park Södra\, Magnusladulåsgatan 1\, Stockholm\, Sverige
ATTACH;FMTTYPE=image/jpeg:https://businesswomen.se/wp-content/uploads/2023/06/AdvisoryGrowth-programmet-e1687434052789.jpg
END:VEVENT
BEGIN:VEVENT
DTSTART;TZID=Europe/Stockholm:20230831T180000
DTEND;TZID=Europe/Stockholm:20230831T200000
DTSTAMP:20260421T144505
CREATED:20230425T162427Z
LAST-MODIFIED:20230425T162427Z
UID:7897-1693504800-1693512000@businesswomen.se
SUMMARY:Mentorträff - ny mentor
DESCRIPTION:Du som är intresserad av att vara mentor är välkommen på en AW tillsammans med oss den 31 augusti. \n 
URL:https://businesswomen.se/event/mentortraff-ny-mentor/
LOCATION:The Park Södra\, Magnusladulåsgatan 1\, Stockholm\, Sverige
ATTACH;FMTTYPE=image/jpeg:https://businesswomen.se/wp-content/uploads/2023/03/BusinessWomen-54-2-e1682439789146.jpg
END:VEVENT
END:VCALENDAR