BEGIN:VCALENDAR
VERSION:2.0
PRODID:-//Businesswomen.se - ECPv6.15.20//NONSGML v1.0//EN
CALSCALE:GREGORIAN
METHOD:PUBLISH
X-WR-CALNAME:Businesswomen.se
X-ORIGINAL-URL:https://businesswomen.se
X-WR-CALDESC:Evenemang för Businesswomen.se
REFRESH-INTERVAL;VALUE=DURATION:PT1H
X-Robots-Tag:noindex
X-PUBLISHED-TTL:PT1H
BEGIN:VTIMEZONE
TZID:Europe/Stockholm
BEGIN:DAYLIGHT
TZOFFSETFROM:+0100
TZOFFSETTO:+0200
TZNAME:CEST
DTSTART:20230326T010000
END:DAYLIGHT
BEGIN:STANDARD
TZOFFSETFROM:+0200
TZOFFSETTO:+0100
TZNAME:CET
DTSTART:20231029T010000
END:STANDARD
BEGIN:DAYLIGHT
TZOFFSETFROM:+0100
TZOFFSETTO:+0200
TZNAME:CEST
DTSTART:20240331T010000
END:DAYLIGHT
BEGIN:STANDARD
TZOFFSETFROM:+0200
TZOFFSETTO:+0100
TZNAME:CET
DTSTART:20241027T010000
END:STANDARD
BEGIN:DAYLIGHT
TZOFFSETFROM:+0100
TZOFFSETTO:+0200
TZNAME:CEST
DTSTART:20250330T010000
END:DAYLIGHT
BEGIN:STANDARD
TZOFFSETFROM:+0200
TZOFFSETTO:+0100
TZNAME:CET
DTSTART:20251026T010000
END:STANDARD
END:VTIMEZONE
BEGIN:VEVENT
DTSTART;TZID=Europe/Stockholm:20241105T090000
DTEND;TZID=Europe/Stockholm:20241105T123000
DTSTAMP:20260422T003913
CREATED:20241002T110150Z
LAST-MODIFIED:20241002T110150Z
UID:9434-1730797200-1730809800@businesswomen.se
SUMMARY:Utbildning Scale up
DESCRIPTION:Lär dig grunderna i hur du skalar upp ditt företag. Anmäl dig till höstens Scale up!\n\nFå verktygen och insikterna du behöver för att ta ditt företag till nästa nivå. Till din hjälp har du erfarna Scale up- och företagscoachen Jenny Arnström och den beprövade 7-stegsmetodiken som används av över 40.000 företag världen över\, skapad av entreprenörer för entreprenörer. \n\nLäs mer och anmäl dig till Utbildning Scale up >>
URL:https://businesswomen.se/event/utbildning-scale-up/
END:VEVENT
BEGIN:VEVENT
DTSTART;TZID=Europe/Stockholm:20241112T090000
DTEND;TZID=Europe/Stockholm:20241113T163000
DTSTAMP:20260422T003913
CREATED:20240625T091648Z
LAST-MODIFIED:20240625T091648Z
UID:9148-1731402000-1731515400@businesswomen.se
SUMMARY:Styrelseutbildning
DESCRIPTION:Är du redo att bidra med din kompetens i styrelserummet eller i en Advisory Board? \nI höst lanseras Business Womens Styrelseutbildning där du får tillgång till expertis och erfarenheter\nfrån våra styrelseproffs samt möjlighet att matchas med styrelse- eller Advisory Boarduppdrag utifrån dina kunskaper.\nUtbildningen är två heldagar samt ett matchningstillfälle där du får träffa företag som kan leta efter just din profil.\n\nAnmälan öppnar inom kort.\n\nReservation för ändringar
URL:https://businesswomen.se/event/styrelseutbildning/
END:VEVENT
BEGIN:VEVENT
DTSTART;TZID=Europe/Stockholm:20241113T173000
DTEND;TZID=Europe/Stockholm:20241113T203000
DTSTAMP:20260422T003913
CREATED:20240926T114945Z
LAST-MODIFIED:20241007T095313Z
UID:9352-1731519000-1731529800@businesswomen.se
SUMMARY:Event - tema Ledarskap och VD-panel
DESCRIPTION:Varmt välkommen till nästa communityevent! \nTemat är Ledarskap och vi har en erfaren VD-panel på scen: \nLäs mer och anmäl dig här >
URL:https://businesswomen.se/event/event-tema-ledarskap-och-vd-panel/
LOCATION:7A Posthuset\, Vasagatan\, Stockholm
END:VEVENT
BEGIN:VEVENT
DTSTART;TZID=Europe/Stockholm:20241122T200000
DTEND;TZID=Europe/Stockholm:20241122T230000
DTSTAMP:20260422T003913
CREATED:20241024T081821Z
LAST-MODIFIED:20241024T101940Z
UID:9495-1732305600-1732316400@businesswomen.se
SUMMARY:Business Women Sverige – The Party
DESCRIPTION:Vi bjuder in till fest den 22 november!\nDet sägs att man ska fira sina framgångar – så låt oss utbringa en skål får dina och våra framgångar tillsammans! Business Women Sverige bjuder in dig och en vän till en glittrig kväll i festens tecken på Club Rose i Stockholm. \nSätt ett kryss i kalendern för kvällen och kom ihåg att anmäla dig på länken nedan! 🎉 \nMer info och anmälan hittar du här >
URL:https://businesswomen.se/event/business-women-sverige-the-party/
END:VEVENT
BEGIN:VEVENT
DTSTART;TZID=Europe/Stockholm:20241124T100000
DTEND;TZID=Europe/Stockholm:20241124T130000
DTSTAMP:20260422T003913
CREATED:20241024T075020Z
LAST-MODIFIED:20241027T071111Z
UID:9491-1732442400-1732453200@businesswomen.se
SUMMARY:Utbildning Från anställd till egen
DESCRIPTION:Intro till entreprenörskap – så tar du steget vidare.\nHur går man tillväga för att starta eget företag? Var börjar man rent praktiskt och vad behöver man ha koll på? I denna introduktionsutbildning får du verktygen för att gå från anställd till egenföretagare. \nNyfiken? Läs mer och anmäl dig på Utbildning Från anställd till egen >>
URL:https://businesswomen.se/event/utbildning-fran-anstalld-till-egen/
END:VEVENT
END:VCALENDAR