BEGIN:VCALENDAR
VERSION:2.0
PRODID:-//Businesswomen.se - ECPv6.15.20//NONSGML v1.0//EN
CALSCALE:GREGORIAN
METHOD:PUBLISH
X-WR-CALNAME:Businesswomen.se
X-ORIGINAL-URL:https://businesswomen.se
X-WR-CALDESC:Evenemang för Businesswomen.se
REFRESH-INTERVAL;VALUE=DURATION:PT1H
X-Robots-Tag:noindex
X-PUBLISHED-TTL:PT1H
BEGIN:VTIMEZONE
TZID:Europe/Stockholm
BEGIN:DAYLIGHT
TZOFFSETFROM:+0100
TZOFFSETTO:+0200
TZNAME:CEST
DTSTART:20240331T010000
END:DAYLIGHT
BEGIN:STANDARD
TZOFFSETFROM:+0200
TZOFFSETTO:+0100
TZNAME:CET
DTSTART:20241027T010000
END:STANDARD
BEGIN:DAYLIGHT
TZOFFSETFROM:+0100
TZOFFSETTO:+0200
TZNAME:CEST
DTSTART:20250330T010000
END:DAYLIGHT
BEGIN:STANDARD
TZOFFSETFROM:+0200
TZOFFSETTO:+0100
TZNAME:CET
DTSTART:20251026T010000
END:STANDARD
BEGIN:DAYLIGHT
TZOFFSETFROM:+0100
TZOFFSETTO:+0200
TZNAME:CEST
DTSTART:20260329T010000
END:DAYLIGHT
BEGIN:STANDARD
TZOFFSETFROM:+0200
TZOFFSETTO:+0100
TZNAME:CET
DTSTART:20261025T010000
END:STANDARD
END:VTIMEZONE
BEGIN:VEVENT
DTSTART;TZID=Europe/Stockholm:20250206T090000
DTEND;TZID=Europe/Stockholm:20250206T123000
DTSTAMP:20260421T173720
CREATED:20241105T133708Z
LAST-MODIFIED:20241126T120318Z
UID:9554-1738832400-1738845000@businesswomen.se
SUMMARY:Utbildning Scale up
DESCRIPTION:Lär dig grunderna i hur du skalar upp ditt företag. Anmäl dig till Scale up!\n\nFå verktygen och insikterna du behöver för att ta ditt företag till nästa nivå. Till din hjälp har du erfarna Scale up- och företagscoachen Jenny Arnström och den beprövade 7-stegsmetodiken som används av över 40.000 företag världen över\, skapad av entreprenörer för entreprenörer. \n\nLäs mer och anmäl dig till Utbildning Scale up >>
URL:https://businesswomen.se/event/utbildning-scale-up-februari/
END:VEVENT
BEGIN:VEVENT
DTSTART;TZID=Europe/Stockholm:20250214T083000
DTEND;TZID=Europe/Stockholm:20250214T090000
DTSTAMP:20260421T173720
CREATED:20250205T215506Z
LAST-MODIFIED:20250205T220116Z
UID:9959-1739521800-1739523600@businesswomen.se
SUMMARY:Gratis frukost-webinar: Bygg ett framgångsrikt bolag
DESCRIPTION:Kickstarta fredag morgon med företagcoachen Jenny Arnström och få 10 nycklar för att utveckla ditt bolag! \nDet är både roligt och utmanande att bygga bolag. Under detta inspirerande webinar får du lära dig att tänka strategiskt kring tillväxt och bekanta dig med Scaling Up-metodiken – en beprövad process som framgångsrika företag använt för att bygga sina företag på ett hållbart och lönsamt sätt. Att slippa dyra misstag och dikeskörningar kan spara både tid och pengar. \nFör vem? Både dig som driver företag själv\, eller har anställda. \nKostnad: Gratis\nPlats: Teams \nAnmäl dig HÄR > \nVid anmälan blir du dessutom medlem i vår community\, där 12 000 andra affärs- och karriärkvinnor redan är medlemmar. \nVarmt välkommen!
URL:https://businesswomen.se/event/gratis-frukost-webinar-bygg-ett-framgangsrikt-bolag/
END:VEVENT
BEGIN:VEVENT
DTSTART;TZID=Europe/Stockholm:20250218T130000
DTEND;TZID=Europe/Stockholm:20250218T160000
DTSTAMP:20260421T173720
CREATED:20250207T094931Z
LAST-MODIFIED:20250207T095027Z
UID:9972-1739883600-1739894400@businesswomen.se
SUMMARY:Medlemsklubben Business Founders: Workshop Försäljning & prissättning
DESCRIPTION:Är du företagare och har bestämt dig för att öka försäljningen i 2025? \nFör dig som är med i vår medlemsklubb Business Founders\, missa inte tillfället då workshop med temat Försäljning & Prissättning ingår (värde 6.000 kr). \nInbjudan skickas separat till medlemsklubbens alla Business Founders-medlemmar.
URL:https://businesswomen.se/event/medlemsklubben-business-founders-workshop-forsaljning-prissattning/
END:VEVENT
END:VCALENDAR