BEGIN:VCALENDAR
VERSION:2.0
PRODID:-//Businesswomen.se - ECPv6.15.20//NONSGML v1.0//EN
CALSCALE:GREGORIAN
METHOD:PUBLISH
X-ORIGINAL-URL:https://businesswomen.se
X-WR-CALDESC:Evenemang för Businesswomen.se
REFRESH-INTERVAL;VALUE=DURATION:PT1H
X-Robots-Tag:noindex
X-PUBLISHED-TTL:PT1H
BEGIN:VTIMEZONE
TZID:Europe/Stockholm
BEGIN:DAYLIGHT
TZOFFSETFROM:+0100
TZOFFSETTO:+0200
TZNAME:CEST
DTSTART:20240331T010000
END:DAYLIGHT
BEGIN:STANDARD
TZOFFSETFROM:+0200
TZOFFSETTO:+0100
TZNAME:CET
DTSTART:20241027T010000
END:STANDARD
BEGIN:DAYLIGHT
TZOFFSETFROM:+0100
TZOFFSETTO:+0200
TZNAME:CEST
DTSTART:20250330T010000
END:DAYLIGHT
BEGIN:STANDARD
TZOFFSETFROM:+0200
TZOFFSETTO:+0100
TZNAME:CET
DTSTART:20251026T010000
END:STANDARD
BEGIN:DAYLIGHT
TZOFFSETFROM:+0100
TZOFFSETTO:+0200
TZNAME:CEST
DTSTART:20260329T010000
END:DAYLIGHT
BEGIN:STANDARD
TZOFFSETFROM:+0200
TZOFFSETTO:+0100
TZNAME:CET
DTSTART:20261025T010000
END:STANDARD
END:VTIMEZONE
BEGIN:VEVENT
DTSTART;TZID=Europe/Stockholm:20250304T083000
DTEND;TZID=Europe/Stockholm:20250304T090000
DTSTAMP:20260421T144612
CREATED:20250117T131436Z
LAST-MODIFIED:20250205T220126Z
UID:9879-1741077000-1741078800@businesswomen.se
SUMMARY:Gratis frukost-webinar: Intro till AI
DESCRIPTION:Välkommen till ett webinar där du får ett intro till generativ AI och möjligheterna som finns. Hur kan AI bli din assistent? Hur kan du komma igång och arbeta effektivare? \nDu kommer också få veta mer om AI-utbildningen för nybörjare som går den 3 april. \nWebbinariet hålls tillsammans med AI-proffsen från Studio Stén. Anmäl dig HÄR > \nVid anmälan blir du dessutom medlem i vår community\, där 12 000 andra affärs- och karriärkvinnor redan är medlemmar. \nVarmt välkommen!
URL:https://businesswomen.se/event/frukost-webinar-intro-till-ai/
END:VEVENT
BEGIN:VEVENT
DTSTART;VALUE=DATE:20250305
DTEND;VALUE=DATE:20250307
DTSTAMP:20260421T144612
CREATED:20241105T132146Z
LAST-MODIFIED:20250211T091258Z
UID:9549-1741132800-1741305599@businesswomen.se
SUMMARY:Styrelseutbildning
DESCRIPTION:Är du redo att bidra med din kompetens i styrelserummet eller i en Advisory Board?\nVi lanserar för andra gången Business Womens Styrelseutbildning där du får tillgång till expertis och erfarenheter från våra styrelseproffs samt möjlighet att matchas med styrelse- eller Advisory Boarduppdrag utifrån dina kunskaper.\nUtbildningen är två heldagar samt ett matchningstillfälle där du får träffa företag som kan leta efter just din profil.\n\nLäs mer om vår Styrelseutbildning >
URL:https://businesswomen.se/event/styrelseutbildning-mars/
LOCATION:Centralt i Stockholm
END:VEVENT
BEGIN:VEVENT
DTSTART;TZID=Europe/Stockholm:20250312T090000
DTEND;TZID=Europe/Stockholm:20250312T123000
DTSTAMP:20260421T144612
CREATED:20241206T104817Z
LAST-MODIFIED:20250211T091154Z
UID:9731-1741770000-1741782600@businesswomen.se
SUMMARY:Utbildning Scale up 2
DESCRIPTION:Nästa steg på tillväxtresan. Anmäl dig till vårens Scale up 2! \nDen här utbildningen riktar sig till dig som har gått vår grundkurs i Scale up eller redan har en tydligt definierad strategi. Under denna halvdag fokuserar vi på att skapa förutsättningar för långsiktig och hållbar tillväxt genom fyra viktiga block. Med dig på resan har du Scale up- och företagscoachen Jenny Arnström. \nLäs mer och anmäl dig till Utbildning Scale up 2 >>
URL:https://businesswomen.se/event/utbildning-scale-up-2-mars/
LOCATION:The Park Forskaren
END:VEVENT
BEGIN:VEVENT
DTSTART;TZID=Europe/Stockholm:20250313T090000
DTEND;TZID=Europe/Stockholm:20250313T123000
DTSTAMP:20260421T144612
CREATED:20241126T120850Z
LAST-MODIFIED:20250120T073706Z
UID:9617-1741856400-1741869000@businesswomen.se
SUMMARY:Digital utbildning Scale up
DESCRIPTION:Lär dig grunderna i hur du skalar upp ditt företag. Anmäl dig till Scale up!\n\nFå verktygen och insikterna du behöver för att ta ditt företag till nästa nivå. Till din hjälp har du erfarna Scale up- och företagscoachen Jenny Arnström och den beprövade 7-stegsmetodiken som används av över 40.000 företag världen över\, skapad av entreprenörer för entreprenörer. \n\nLäs mer och anmäl dig till Utbildning Scale up >>
URL:https://businesswomen.se/event/digital-utbildning-scale-up/
END:VEVENT
BEGIN:VEVENT
DTSTART;TZID=Europe/Stockholm:20250316T100000
DTEND;TZID=Europe/Stockholm:20250316T130000
DTSTAMP:20260421T144612
CREATED:20240816T094935Z
LAST-MODIFIED:20250211T090624Z
UID:9225-1742119200-1742130000@businesswomen.se
SUMMARY:Utbildning Intro till Entreprenörskap
DESCRIPTION:Välkommen till utbildningen Intro i entreprenörskap! För dig som vill gå från anställd till egen företagare.\nHur gör man när man vill starta eget? Vad behöver man ha koll på och vart börjar man rent praktiskt? Detta är precis frågor som du får svar på i denna introduktionsutbildning. Samla verktygen du behöver för att gå från anställd till egen företagare.\n\nModul 1 ingår kostnadsfritt för medlemmar i medlemsklubben – Karriär.\n\nLäs mer och anmäl dig till Intro i entreprenörskap >>
URL:https://businesswomen.se/event/intro-till-entreprenorskap/
LOCATION:Centralt i Stockholm
END:VEVENT
BEGIN:VEVENT
DTSTART;TZID=Europe/Stockholm:20250319T173000
DTEND;TZID=Europe/Stockholm:20250319T203000
DTSTAMP:20260421T144612
CREATED:20241212T110611Z
LAST-MODIFIED:20241212T110611Z
UID:9805-1742405400-1742416200@businesswomen.se
SUMMARY:Prestation och självförtroende
DESCRIPTION:Save the date för vårt communityevent Prestation och självförtroende. Mer information kommer inom kort!
URL:https://businesswomen.se/event/prestation-och-sjalvfortroende/
END:VEVENT
END:VCALENDAR