BEGIN:VCALENDAR
VERSION:2.0
PRODID:-//Businesswomen.se - ECPv6.15.20//NONSGML v1.0//EN
CALSCALE:GREGORIAN
METHOD:PUBLISH
X-ORIGINAL-URL:https://businesswomen.se
X-WR-CALDESC:Evenemang för Businesswomen.se
REFRESH-INTERVAL;VALUE=DURATION:PT1H
X-Robots-Tag:noindex
X-PUBLISHED-TTL:PT1H
BEGIN:VTIMEZONE
TZID:Europe/Stockholm
BEGIN:DAYLIGHT
TZOFFSETFROM:+0100
TZOFFSETTO:+0200
TZNAME:CEST
DTSTART:20240331T010000
END:DAYLIGHT
BEGIN:STANDARD
TZOFFSETFROM:+0200
TZOFFSETTO:+0100
TZNAME:CET
DTSTART:20241027T010000
END:STANDARD
BEGIN:DAYLIGHT
TZOFFSETFROM:+0100
TZOFFSETTO:+0200
TZNAME:CEST
DTSTART:20250330T010000
END:DAYLIGHT
BEGIN:STANDARD
TZOFFSETFROM:+0200
TZOFFSETTO:+0100
TZNAME:CET
DTSTART:20251026T010000
END:STANDARD
BEGIN:DAYLIGHT
TZOFFSETFROM:+0100
TZOFFSETTO:+0200
TZNAME:CEST
DTSTART:20260329T010000
END:DAYLIGHT
BEGIN:STANDARD
TZOFFSETFROM:+0200
TZOFFSETTO:+0100
TZNAME:CET
DTSTART:20261025T010000
END:STANDARD
END:VTIMEZONE
BEGIN:VEVENT
DTSTART;TZID=Europe/Stockholm:20250603T113000
DTEND;TZID=Europe/Stockholm:20250603T130000
DTSTAMP:20260422T160146
CREATED:20250325T101502Z
LAST-MODIFIED:20250325T101502Z
UID:10098-1748950200-1748955600@businesswomen.se
SUMMARY:Medlemsklubben: lunchträff
DESCRIPTION:Varmt välkomna alla medlemmar i Karriär och Business Founders på sommarlunch. \nMer info och inbjudan skickas separat när datum närmar sig\, men sätt gärna ett kryss i kalendern redan nu!
URL:https://businesswomen.se/event/medlemsklubben-lunchtraff/
END:VEVENT
BEGIN:VEVENT
DTSTART;TZID=Europe/Stockholm:20250604T083000
DTEND;TZID=Europe/Stockholm:20250604T091500
DTSTAMP:20260422T160146
CREATED:20250514T070740Z
LAST-MODIFIED:20250514T070740Z
UID:10398-1749025800-1749028500@businesswomen.se
SUMMARY:Gratis frukost-webinar: Mentorskapets styrkor
DESCRIPTION:Mentorskap har funnits i alla tider\, och är en effektiv och beprövad metod för kompetensöverföring och utveckling. Vill du veta mer om mentorskapets styrkor? \nI vårt kostnadsfria webinar pratar vi om varför mentorskap är bra\, vårt program och vad det kan leda till. Webinariet är både för dig som vill ha en mentor och för dig som är intresserad av att bli mentor. \nDu kommer också få veta mer om vårt mentorskapsprogram som startar i september. \nAnmäl dig till vårt webinar Mentorskapets styrkor HÄR > \nVid anmälan blir du dessutom medlem i vår community\, där 15.000 andra affärs- och karriärkvinnor redan är medlemmar. \nVarmt välkommen!
URL:https://businesswomen.se/event/gratis-frukost-webinar-mentorskapets-styrkor/
LOCATION:Zoom
END:VEVENT
BEGIN:VEVENT
DTSTART;TZID=Europe/Stockholm:20250618T083000
DTEND;TZID=Europe/Stockholm:20250618T091500
DTSTAMP:20260422T160146
CREATED:20250604T163033Z
LAST-MODIFIED:20250604T163033Z
UID:10579-1750235400-1750238100@businesswomen.se
SUMMARY:Gratis frukost-webinar: IT-säkerhet
DESCRIPTION:Välkommen till ett webinar där du får en intro till hur du skyddar din IT-miljö. Hackers och digitala hot slår till allt oftare i vår vardag. Lösenord\, konton och din information kan ”kidnappas” och din dator tömmas eller stängas ner. Men det finns skydd. \nVälkommen till vårt webinar där Pierre Bäckström från Seeyou ger råd\, tips och kunskap på hur du skyddar dig och din IT-miljö. \nTa kontrollen över din digitala miljö! Alla är välkomna\, men webbinariet fokuserar på företag med 1-200 anställda. Anmäl dig HÄR > \nVid anmälan blir du dessutom medlem i vår community\, där 15.000 andra affärs- och karriärkvinnor redan är medlemmar. \nVarmt välkommen!
URL:https://businesswomen.se/event/gratis-frukost-webinar-it-sakerhet/
LOCATION:Zoom
END:VEVENT
BEGIN:VEVENT
DTSTART;TZID=Europe/Stockholm:20250626T083000
DTEND;TZID=Europe/Stockholm:20250626T091500
DTSTAMP:20260422T160146
CREATED:20250613T081714Z
LAST-MODIFIED:20250613T081714Z
UID:10656-1750926600-1750929300@businesswomen.se
SUMMARY:Gratis frukost-webinar: Automatisera med marknadsföring och försäljning med AI
DESCRIPTION:Välkommen till ett webinar där du får en intro till hur du kan automatisera din marknadsföring och försäljning med hjälp av AI. \nPetra Sundell från Upbeater visar hur vi med hjälp av AI-verktyg kan jobba smartare\, inte hårdare. Det blir en praktisk stund på hur du kan effektivisera försäljning och marknadsföring och vi vänder oss till entreprenörer\, konsulter och ledare med detta webinar. \nLäs mer och anmäl dig till Automatisera din marknadsföring och försäljning med AI HÄR > \nVid anmälan blir du dessutom medlem i vår community\, där 15.000 andra affärs- och karriärkvinnor redan är medlemmar. \nVarmt välkommen!
URL:https://businesswomen.se/event/gratis-frukost-webinar-automatisera-med-marknadsforing-och-forsaljning-med-ai/
LOCATION:Zoom
END:VEVENT
END:VCALENDAR